BEGIN:VCALENDAR
VERSION:2.0
PRODID:-//wp-events-plugin.com//7.2.3.1//EN
TZID:Europe/Zurich
X-WR-TIMEZONE:Europe/Zurich
BEGIN:VEVENT
UID:483@sac-saas.ch
DTSTART;TZID=Europe/Zurich;VALUE=DATE:20250608
DTEND;TZID=Europe/Zurich;VALUE=DATE:20250609
DTSTAMP:20251123T193156Z
URL:https://sac-saas.ch/events/schneeschuhtour-hockenhon-loetschenpasshuet
 te-hockenhorn-anmeldung-ab-15-02-2026/
SUMMARY:Schneeschuhtour Hockenhon - Lötschenpasshütte - Hockenhorn / Anme
 ldung ab 15. 02. 2026
DESCRIPTION:Mit der Bahn von Wiler bis Endstation Hockenhorn\, dann mit Sch
 neeschuh Richtung Lötschenpass. Freiwillige Aufstieg zum Hockenhorn\, Abs
 tieg zur Lötschenpasshütte (Mittagrast)\, Nachmittag Aufstieg zur Bergst
 ation von Hockenhorn und Rückfahrt nach Wiler. Wer Magicpasspass\, bitte 
 nicht vergessen!!\n\n\n\nAnmeldung ab:\n15. 02. 2026\n\n\nSchwierigkeit\nl
 eicht (Hockenhorn schwer)\n\n\nEckdaten\n\n\n\nAusrüstung\nSchneeschuhe\,
  Skistöcke und Winterausrüstung wie LVS\, Schneeschaufel und Sondierstan
 ge\n\n\nTreffpunkt\nTalstation Wiler\n\n\nTeilnehmerzahl\n10\n\n\n\n&nbsp\
 ;
CATEGORIES:Klettern,SAC Tour,Schneeschuhtour
END:VEVENT
BEGIN:VTIMEZONE
TZID:Europe/Zurich
X-LIC-LOCATION:Europe/Zurich
BEGIN:DAYLIGHT
DTSTART:20250330T030000
TZOFFSETFROM:+0100
TZOFFSETTO:+0200
TZNAME:CEST
END:DAYLIGHT
END:VTIMEZONE
END:VCALENDAR