BEGIN:VCALENDAR
VERSION:2.0
PRODID:-//wp-events-plugin.com//7.2.3.1//EN
TZID:Europe/Zurich
X-WR-TIMEZONE:Europe/Zurich
BEGIN:VEVENT
UID:198@sac-saas.ch
DTSTART;TZID=Europe/Zurich;VALUE=DATE:20240225
DTEND;TZID=Europe/Zurich;VALUE=DATE:20240226
DTSTAMP:20240217T191224Z
URL:https://sac-saas.ch/events/schneeschuhtour-guggistafel-loetschental/
SUMMARY:Schneeschuhtour Guggistafel Lötschental / Abgesagt
DESCRIPTION:Muss den Tour arbeitsbedingt leider absagen.\n\nGenussvolle Sch
 neeschuhtour im Lötschental. Eine schöne Runde von Blatten bis Guggistaf
 el und wieder zurück.\n\n\n\nAnmeldung möglich ab:\n24.01.2024\n\n\nSchw
 ierigkeit\nT3\n\n\nEckdaten\n↑ 500 ↓ 500       10km\n\n\nAusrüstun
 g\nWinterausrüstung und Verpflegung\n\n\nTreffpunkt\nBlatten Lötschental
 \n\n\nTeilnehmerzahl\n7\n\n\n\n&nbsp\;
CATEGORIES:SAC Tour
END:VEVENT
BEGIN:VTIMEZONE
TZID:Europe/Zurich
X-LIC-LOCATION:Europe/Zurich
BEGIN:STANDARD
DTSTART:20231029T020000
TZOFFSETFROM:+0200
TZOFFSETTO:+0100
TZNAME:CET
END:STANDARD
END:VTIMEZONE
END:VCALENDAR