BEGIN:VCALENDAR
VERSION:2.0
PRODID:-//wp-events-plugin.com//7.2.3.1//EN
TZID:Europe/Zurich
X-WR-TIMEZONE:Europe/Zurich
BEGIN:VEVENT
UID:98@sac-saas.ch
DTSTART;TZID=Europe/Zurich;VALUE=DATE:20230305
DTEND;TZID=Europe/Zurich;VALUE=DATE:20230306
DTSTAMP:20230304T152950Z
URL:https://sac-saas.ch/events/schneeschuhtour-feegletscher/
SUMMARY:Schneeschuhtour Feegletscher / Anmeldung ab 05.02.2023
DESCRIPTION:&nbsp\;\n\n\n\nAnmeldung möglich ab:\n05.02.2023\, 07:00\n\n\n
 Schwierigkeit\nWT2\n\n\nEckdaten\n Aufstieg 100m\n\n\nAusrüstung\nSchnee
 schuhe\, Stöcke\, Anseilgurt\, zweckmässige Bekleidung\, Sonnenbrille\n\
 n\nTreffpunkt\n8.55 Uhr Talstation Seilbahn Spielboden Saas-Fee\n\n\nTeiln
 ehmerzahl\n10\n\n\n\nEine der schönsten Schneeschuhtouren weit und breit.
  Grossartige Gletscherszenerie\, meist eher flach\, aber Landschaft und Er
 lebnis vom Besten.
CATEGORIES:SAC Tour
END:VEVENT
BEGIN:VTIMEZONE
TZID:Europe/Zurich
X-LIC-LOCATION:Europe/Zurich
BEGIN:STANDARD
DTSTART:20221030T020000
TZOFFSETFROM:+0200
TZOFFSETTO:+0100
TZNAME:CET
END:STANDARD
END:VTIMEZONE
END:VCALENDAR