BEGIN:VCALENDAR
VERSION:2.0
PRODID:-//wp-events-plugin.com//7.2.3.1//EN
TZID:Europe/Zurich
X-WR-TIMEZONE:Europe/Zurich
BEGIN:VEVENT
UID:402@sac-saas.ch
DTSTART;TZID=Europe/Zurich;VALUE=DATE:20250304
DTEND;TZID=Europe/Zurich;VALUE=DATE:20250305
DTSTAMP:20250301T105720Z
URL:https://sac-saas.ch/events/schneeschuhtour-eienalp-mit-fondue-anmeldun
 g-ab-04-02-2025/
SUMMARY:Schneeschuhtour Eienalp mit Fondue / Anmeldung ab 04.02.2025
DESCRIPTION:Wir machen eine gemütliche Schneeschuhtour zur Eienalp und wie
 der zurück nach Saas-Almagell.\n\nAnschliessend möchte ich mit euch eine
  feines Fondue geniessen. Bei der Anmeldung angeben ob ja oder nein.\n\n\n
 \nAnmeldung ab:\n04.02.2025\n\n\nSchwierigkeit\nLeicht\, Kaffeetasse\n\n\n
 Eckdaten\n260hm rauf und runter\n\n\nAusrüstung\nKomplett mit LVS\, Schau
 fel und Sonde\n\n\nTreffpunkt\n15:34 Uhr auf dem Dorfplatz Saas-Almagell\,
 \n\n\nTeilnehmerzahl\n15\n\n\n\n&nbsp\;
CATEGORIES:SAC Tour
END:VEVENT
BEGIN:VTIMEZONE
TZID:Europe/Zurich
X-LIC-LOCATION:Europe/Zurich
BEGIN:STANDARD
DTSTART:20241027T020000
TZOFFSETFROM:+0200
TZOFFSETTO:+0100
TZNAME:CET
END:STANDARD
END:VTIMEZONE
END:VCALENDAR