BEGIN:VCALENDAR
VERSION:2.0
PRODID:-//wp-events-plugin.com//7.2.3.1//EN
TZID:Europe/Zurich
X-WR-TIMEZONE:Europe/Zurich
BEGIN:VEVENT
UID:398@sac-saas.ch
DTSTART;TZID=Europe/Zurich;VALUE=DATE:20250208
DTEND;TZID=Europe/Zurich;VALUE=DATE:20250209
DTSTAMP:20250122T192718Z
URL:https://sac-saas.ch/events/schneeschuhtour-crans-montana-anmeldung-ab-
 18-12-2024/
SUMMARY:Schneeschuhtour Crans Montana - ! Wegen Wettervorhersage verschoben
  nach samstag 8.2.25
DESCRIPTION:Schöne Schneeschuh Tour bei Crans Montana. Für alle die Ruhe 
 und Erholung suchen und die unberührte Natur geniessen möchten.\n\n\n\nA
 nmeldung ab:\n18.12.2024\n\n\nSchwierigkeit\nWT3\n\n\nEckdaten\n8km 420+/-
 \n\n\nAusrüstung\nSchneeschuh und Lawine Ausrustung. Verpflegung für unt
 erwegs\n\n\nTreffpunkt\n\n\n\nTeilnehmerzahl\n8\n\n\n\n&nbsp\;
CATEGORIES:SAC Tour
END:VEVENT
BEGIN:VTIMEZONE
TZID:Europe/Zurich
X-LIC-LOCATION:Europe/Zurich
BEGIN:STANDARD
DTSTART:20241027T020000
TZOFFSETFROM:+0200
TZOFFSETTO:+0100
TZNAME:CET
END:STANDARD
END:VTIMEZONE
END:VCALENDAR