BEGIN:VCALENDAR
VERSION:2.0
PRODID:-//wp-events-plugin.com//7.2.3.1//EN
TZID:Europe/Zurich
X-WR-TIMEZONE:Europe/Zurich
BEGIN:VEVENT
UID:97@sac-saas.ch
DTSTART;TZID=Europe/Zurich;VALUE=DATE:20221230
DTEND;TZID=Europe/Zurich;VALUE=DATE:20221231
DTSTAMP:20221215T045228Z
URL:https://sac-saas.ch/events/schneeschuhtour-by-night-mit-raclette/
SUMMARY:Schneeschuhtour by Night mit Raclette / Anmeldung ab 27.11.2022
DESCRIPTION:&nbsp\;\n\n\n\nAnmeldung möglich ab:\n27.11.2022\, 07:00\n\n\n
 Schwierigkeit\nWT 2-3\n\n\nEckdaten\n250 hinauf\, 250 hinab\, Dauer der ga
 nzen Tour ca. bis 23 Uhr\n\n\nAusrüstung\nSchneeschuhe\, zweckmässige Be
 kleidung\, Stirnlampe\n\n\nTreffpunkt\n18.30 Uhr\, Startort wird noch mitg
 eteilt\, Tour im Saastal\n\n\nTeilnehmerzahl\n8\n\n\n\nTraumhafte Tour bei
  nächtlicher Stimmung\, Racletteplausch.\n\nKosten SAC-Beitrag CHF 15.- u
 nd Raclette CHFn15.-
CATEGORIES:SAC Tour,Schneeschuhtour
END:VEVENT
BEGIN:VTIMEZONE
TZID:Europe/Zurich
X-LIC-LOCATION:Europe/Zurich
BEGIN:STANDARD
DTSTART:20221030T020000
TZOFFSETFROM:+0200
TZOFFSETTO:+0100
TZNAME:CET
END:STANDARD
END:VTIMEZONE
END:VCALENDAR