BEGIN:VCALENDAR
VERSION:2.0
PRODID:-//wp-events-plugin.com//7.2.3.1//EN
TZID:Europe/Zurich
X-WR-TIMEZONE:Europe/Zurich
BEGIN:VEVENT
UID:397@sac-saas.ch
DTSTART;TZID=Europe/Zurich;VALUE=DATE:20250216
DTEND;TZID=Europe/Zurich;VALUE=DATE:20250217
DTSTAMP:20250121T124223Z
URL:https://sac-saas.ch/events/schneeschuhtour-blatten-fafleralp-anmeldung
 -ab-16-01-2025/
SUMMARY:Schneeschuhtour Blatten – Fafleralp / Anmeldung ab 16.01.2025
DESCRIPTION:Aufstieg: Vom Parkplatz auf der südlichen Seite der Lonza bis 
  Weiler Kühmatt und dann weiter hoch zur Fafleralp  (Hotel\, wo man
  auch das Mittag einnehmen kann) ca. 1Std.  50 Min. á 250m\nAbstieg: 
  Vom Hotel Fafleralp auf der nördlichen Seite der Lonza zurück nach K
 ühmatt und dann den Besinnungsweg zurück nach Blatten ca. 1 ½  Std.
  â 250m\n\n\n\n\nAnmeldung ab:\n16.01.2025\n\n\nSchwierigkeit\nEinfach\
 n\n\nAusrüstung\nWinterausrüstung\, Schneeschuhe und Wanderstöcke und V
 erpflegung  unterwegs (Mittagessen freiwillig im Restaurant).\n\n\nTreffp
 unkt\n\n1.) ÖV Bahnhof Visp  9h. 20 Uhr über Brig -  Goppenstein – B
 latten\n2.) Privatfahrzeug:   9. 30 Uhr Migrosparkplatz Visp\n\n\n\nTeil
 nehmerzahl\n10\n\n\n\n&nbsp\;
CATEGORIES:SAC Tour
END:VEVENT
BEGIN:VTIMEZONE
TZID:Europe/Zurich
X-LIC-LOCATION:Europe/Zurich
BEGIN:STANDARD
DTSTART:20241027T020000
TZOFFSETFROM:+0200
TZOFFSETTO:+0100
TZNAME:CET
END:STANDARD
END:VTIMEZONE
END:VCALENDAR