BEGIN:VCALENDAR
VERSION:2.0
PRODID:-//wp-events-plugin.com//7.2.3.1//EN
TZID:Europe/Zurich
X-WR-TIMEZONE:Europe/Zurich
BEGIN:VEVENT
UID:243@sac-saas.ch
DTSTART;TZID=Europe/Zurich;VALUE=DATE:20240113
DTEND;TZID=Europe/Zurich;VALUE=DATE:20240115
DTSTAMP:20231216T065722Z
URL:https://sac-saas.ch/events/schneeschuhtour-bei-den-welschen/
SUMMARY:Schneeschuhtour bei den Welschen
DESCRIPTION:Text\n\n\n\nAnmeldung möglich ab:\n13.12.2023\n\n\nSchwierigke
 it\nWT 3\n\n\nEckdaten\nAuf/Ab ca. 500m\, Zeit ca.4:30\n\n\nAusrüstung\nS
 chneeschuhtourausrüstung\, LVS\, Hüttenschlafsack\, Stirnlampe\n\n\nTref
 fpunkt\nVisp ab 7:06 nach Col des Mosses\, retour von Col des Mosses 15:35
 \n\n\nTeilnehmerzahl\n10\n\n\n\nDer Col des Mosses verbindet Chateau d`Oex
  mit Aigle. Ein Voralpenpass der zugleich die Wasserscheide zwischen Rhein
  und Rhone bildet. In der lieblichen Landschaft mit sehr schönen Aussicht
 en werden wir in den 2 Tagen die Gegend erkunden. Übernachtung in Le Sepe
 y oder Col des Mosses.\n\nFreue mich mit Euch wieder unterwegs zu sein.
CATEGORIES:SAC Tour
END:VEVENT
BEGIN:VTIMEZONE
TZID:Europe/Zurich
X-LIC-LOCATION:Europe/Zurich
BEGIN:STANDARD
DTSTART:20231029T020000
TZOFFSETFROM:+0200
TZOFFSETTO:+0100
TZNAME:CET
END:STANDARD
END:VTIMEZONE
END:VCALENDAR