BEGIN:VCALENDAR
VERSION:2.0
PRODID:-//wp-events-plugin.com//7.2.3.1//EN
TZID:Europe/Zurich
X-WR-TIMEZONE:Europe/Zurich
BEGIN:VEVENT
UID:89@sac-saas.ch
DTSTART;TZID=Europe/Zurich;VALUE=DATE:20230107
DTEND;TZID=Europe/Zurich;VALUE=DATE:20230109
DTSTAMP:20230103T162323Z
URL:https://sac-saas.ch/events/schneeschuh_domi/
SUMMARY:Mangels Interesse abgesagt Schneeschuh Combe Barasson - Gr St Berna
 rd-Col du Bastillon
DESCRIPTION:Samstag 07.01.23\nVom Parkplatz in Bourg-Saint-Bernard aus folg
 en wir der Strasse\, die zum Pass und zum Hospiz des Großen Sankt Bernhar
 d hinaufführt. Ab Le Tronchet geht es in südöstlicher Richtung zur Comb
 e de Barasson. Der Schlusshang zum Ostsattel ist ein wenig steiler. ansons
 ten keine technische Schwierigkeiten. Hervorragende Aussicht oben auf ital
 ienischer\, französischer und schweizerischer Seite.\nAnschliessen folgt 
 ein Abstieg von ca 400 hm zurück und der Aufstieg zum Gr St Bernard. Dort
  werden wir im legendäre Hospiz bei den Mönchen übernachten. https://gs
 bernard.com/fr/\n\nSonntag 08.01.2023\nVom Hospiz steigen wir auf der ital
 ienischen Seite des Passes hinab und folgen dem Verlauf der schneebedeckte
 n Stra. Darauf folgt der erste Aufsteig zum Fenêtre d'en Hauten. Weiter f
 olgt der Abstieg über einen sanften Hang bis zum Plateau der Lacs de Fen
 être. Von dort erfolgt der Aufstieg zum eigentlichen Tagesziel\, Col du B
 astillon. Er bietet einen schönen Blick auf das Montblanc-Massiv\, den Gr
 and Combin und den Mont Vélan.\nVom Col du Bastillon folgen wir dem Combe
  du Drône nach De Bourg-St-Bernard. Diese wunderschöne Route führt zun
 ächst über das hügelige und breite  Plateau des Plat de la Lé\, dann
  durch den mittleren Teil der Combe de Drône und die Alm und die Chalets 
 von La Pierre.\n\n\n\nAnmeldung möglich ab:\n27.11.2022\, 07:00\n\n\nSchw
 ierigkeit\nWT4\n\n\nEckdaten\n↑940↓400\; ↑900 ↓850\n\n\nAusrüstun
 g\nSeidenschlafsack\, alpine Schneeschuhe\,\n\n\nTreffpunkt\n\n\n\nTeilneh
 merzahl\n6\n\n\n\n&nbsp\;
CATEGORIES:SAC Tour,Schneeschuhtour
END:VEVENT
BEGIN:VTIMEZONE
TZID:Europe/Zurich
X-LIC-LOCATION:Europe/Zurich
BEGIN:STANDARD
DTSTART:20221030T020000
TZOFFSETFROM:+0200
TZOFFSETTO:+0100
TZNAME:CET
END:STANDARD
END:VTIMEZONE
END:VCALENDAR