BEGIN:VCALENDAR
VERSION:2.0
PRODID:-//wp-events-plugin.com//7.2.3.1//EN
TZID:Europe/Zurich
X-WR-TIMEZONE:Europe/Zurich
BEGIN:VEVENT
UID:522@sac-saas.ch
DTSTART;TZID=Europe/Zurich;VALUE=DATE:20260304
DTEND;TZID=Europe/Zurich;VALUE=DATE:20260305
DTSTAMP:20260115T135954Z
URL:https://sac-saas.ch/events/schneeschuh-ueberraschung-tour-anmeldung-ab
 -04-02-2026/
SUMMARY:Schneeschuh Überraschung Tour / Anmeldung ab 04.02.2026
DESCRIPTION:Schneeschuh Überraschung Tour: wir werden spontan schauen wo d
 er Schnee noch gut ist.\n\n\n\nAnmeldung ab:\n04.02.2026\n\n\nSchwierigkei
 t\nWT3\n\n\nEckdaten\nmax. 750D+/-\n\n\nAusrüstung\nSchneeschuh Ausrüstu
 ng/Verpflegung für Unterwegs\n\n\nTreffpunkt\nwird noch bekannt gegeben\n
 \n\nTeilnehmerzahl\n7 inkl. Tourenleiter\n\n\n\n&nbsp\;
CATEGORIES:SAC Tour,Schneeschuhtour
END:VEVENT
BEGIN:VTIMEZONE
TZID:Europe/Zurich
X-LIC-LOCATION:Europe/Zurich
BEGIN:STANDARD
DTSTART:20251026T020000
TZOFFSETFROM:+0200
TZOFFSETTO:+0100
TZNAME:CET
END:STANDARD
END:VTIMEZONE
END:VCALENDAR