BEGIN:VCALENDAR
VERSION:2.0
PRODID:-//wp-events-plugin.com//7.2.3.1//EN
TZID:Europe/Zurich
X-WR-TIMEZONE:Europe/Zurich
BEGIN:VEVENT
UID:331@sac-saas.ch
DTSTART;TZID=Europe/Zurich;VALUE=DATE:20240210
DTEND;TZID=Europe/Zurich;VALUE=DATE:20240211
DTSTAMP:20240129T154153Z
URL:https://sac-saas.ch/events/schneeschuh-tour-visperterminen-gibidum-anm
 eldung-ab-26-01-2024/
SUMMARY:Schneeschuh-Tour Visperterminen-Gibidum / Anmeldung ab 26.01.2024
DESCRIPTION:&nbsp\;\n\n\n\n\n\n\n\nSchwierigkeit\nws\n\n\nEckdaten\nSchnees
 chuhtour Giw - Gebidum\, 450 Hm\n\n\nAusrüstung\nSchneeschuh-Ausrüstung\
 , Verpflegung aus dem Rucksack\n\n\nTreffpunkt\nBahnhof Visp\, Bus Vispert
 erminen\, 9 h 10\n\n\nTeilnehmerzahl\n10\n\n\n\n&nbsp\;
CATEGORIES:SAC Tour
END:VEVENT
BEGIN:VTIMEZONE
TZID:Europe/Zurich
X-LIC-LOCATION:Europe/Zurich
BEGIN:STANDARD
DTSTART:20231029T020000
TZOFFSETFROM:+0200
TZOFFSETTO:+0100
TZNAME:CET
END:STANDARD
END:VTIMEZONE
END:VCALENDAR