BEGIN:VCALENDAR
VERSION:2.0
PRODID:-//wp-events-plugin.com//7.2.3.1//EN
TZID:Europe/Zurich
X-WR-TIMEZONE:Europe/Zurich
BEGIN:VEVENT
UID:332@sac-saas.ch
DTSTART;TZID=Europe/Zurich;VALUE=DATE:20240224
DTEND;TZID=Europe/Zurich;VALUE=DATE:20240225
DTSTAMP:20240129T154851Z
URL:https://sac-saas.ch/events/schneeschuh-tour-rischinen-aletschbord-anme
 ldung-ab-08-02-2024/
SUMMARY:Schneeschuh-Tour Rischinen-Aletschbord / Anmeldung ab 08.02.2024
DESCRIPTION:&nbsp\;\n\n\n\n\n\n\n\nSchwierigkeit\nws\n\n\nEckdaten\nTour Bl
 atten - Egga - Holzji - Hotel Belalp - Gondelbahn Alpe Bel\, 850 Hm\n\n\nA
 usrüstung\nSchneeschuh-Ausrüstung\, Verpflegung aus dem Rucksack\n\n\nTr
 effpunkt\n9 h 00 vor der Bahnstation\, mit Skibus zum Einstieg Trail\n\n\n
 Teilnehmerzahl\n10\n\n\n\n&nbsp\;
CATEGORIES:SAC Tour
END:VEVENT
BEGIN:VTIMEZONE
TZID:Europe/Zurich
X-LIC-LOCATION:Europe/Zurich
BEGIN:STANDARD
DTSTART:20231029T020000
TZOFFSETFROM:+0200
TZOFFSETTO:+0100
TZNAME:CET
END:STANDARD
END:VTIMEZONE
END:VCALENDAR