BEGIN:VCALENDAR
VERSION:2.0
PRODID:-//wp-events-plugin.com//7.2.3.1//EN
TZID:Europe/Zurich
X-WR-TIMEZONE:Europe/Zurich
BEGIN:VEVENT
UID:617@sac-saas.ch
DTSTART;TZID=Europe/Zurich;VALUE=DATE:20260308
DTEND;TZID=Europe/Zurich;VALUE=DATE:20260309
DTSTAMP:20260119T111653Z
URL:https://sac-saas.ch/events/schneeschuh-hockenhorn-loetschenpass-anmeld
 ung-ab-08-02-2026/
SUMMARY:Schneeschuh Hockenhorn - Lötschenpass/ Anmeldung ab 08.02.2026
DESCRIPTION:Schneeschuhwanderung Hockenhorn-Lötschenpass. Wer Magicpass ha
 t\, nicht vergessen.\n\n\n\nAnmeldung ab:\n08.03.2026\n\n\nSchwierigkeit\n
 WT3\n\n\nEckdaten\n400HM\n\n\nAusrüstung\nSchneeschuhausrüstung inkl.LVS
 \, MagicPass (falls vorhanden)\n\n\nTreffpunkt\nTalstation Wiler\n\n\nTeil
 nehmerzahl\n10\n\n\n\n&nbsp\;
CATEGORIES:SAC Tour,Schneeschuhtour
END:VEVENT
BEGIN:VTIMEZONE
TZID:Europe/Zurich
X-LIC-LOCATION:Europe/Zurich
BEGIN:STANDARD
DTSTART:20251026T020000
TZOFFSETFROM:+0200
TZOFFSETTO:+0100
TZNAME:CET
END:STANDARD
END:VTIMEZONE
END:VCALENDAR