BEGIN:VCALENDAR
VERSION:2.0
PRODID:-//wp-events-plugin.com//7.2.3.1//EN
TZID:Europe/Zurich
X-WR-TIMEZONE:Europe/Zurich
BEGIN:VEVENT
UID:117@sac-saas.ch
DTSTART;TZID=Europe/Zurich;VALUE=DATE:20230422
DTEND;TZID=Europe/Zurich;VALUE=DATE:20230423
DTSTAMP:20230306T192055Z
URL:https://sac-saas.ch/events/saisoneroeffnung-klettern-italien/
SUMMARY:Saisoneröffnung Klettern Italien / Anmeldung ab 08.04.2023
DESCRIPTION:Nach diesem - bis anhin - eher trostlosen Winter\, wird es euch
  hoffentlich nicht schwer fallen\, die Tourenskis zu versorgen und wieder 
 einmal Fels unter den Füssen zu spüren. Wir machen einen Tagesausflug na
 ch Italien\, voraussichtlich nach Croveo. Dort gibt es Routen für jedefra
 u/jedermann und nur schon den Cappuccino oder die Pizza danach sind die Re
 ise wert!\n\n\n\nAnmeldung möglich ab:\n08.04.2023\, 07:00\n\n\nSchwierig
 keit\nfür alle - Routen ab 4c/5a\n\n\n\n\n\n\nAusrüstung\nKletterfinken 
 und Gurt\, Expressschlingen\, Sicherungsgerät\, Helm\, falls vorhanden Se
 il (70 Meter)\n\n\nTreffpunkt\nwird noch bekannt gegeben\n\n\nTeilnehmerza
 hl\n12\n\n\n\n&nbsp\;
CATEGORIES:SAC Tour
END:VEVENT
BEGIN:VTIMEZONE
TZID:Europe/Zurich
X-LIC-LOCATION:Europe/Zurich
BEGIN:DAYLIGHT
DTSTART:20230326T030000
TZOFFSETFROM:+0100
TZOFFSETTO:+0200
TZNAME:CEST
END:DAYLIGHT
END:VTIMEZONE
END:VCALENDAR