BEGIN:VCALENDAR
VERSION:2.0
PRODID:-//wp-events-plugin.com//7.2.3.1//EN
TZID:Europe/Zurich
X-WR-TIMEZONE:Europe/Zurich
BEGIN:VEVENT
UID:496@sac-saas.ch
DTSTART;TZID=Europe/Zurich;VALUE=DATE:20251001
DTEND;TZID=Europe/Zurich;VALUE=DATE:20251002
DTSTAMP:20251123T193013Z
URL:https://sac-saas.ch/events/saisoneroeffnung-klettern-italien-2/
SUMMARY:Saisoneröffnung Klettern Italien
DESCRIPTION:&nbsp\;\n\n\n\nAnmeldung ab:\n01.04.2026\n\n\nSchwierigkeit\nab
  5a\n\n\nEckdaten\nSportklettern\n\n\nAusrüstung\nKletterfinken\, Gstält
 li\, Helm\, Sicherungsgerät\, 8 Expressen\, falls vorhanden Seil 60/70 Me
 ter\n\n\nTreffpunkt\nwird noch bekannt gegeben\n\n\nTeilnehmerzahl\n10\n\n
 \n\n&nbsp\;
CATEGORIES:Klettern,SAC Tour
END:VEVENT
BEGIN:VTIMEZONE
TZID:Europe/Zurich
X-LIC-LOCATION:Europe/Zurich
BEGIN:DAYLIGHT
DTSTART:20250330T030000
TZOFFSETFROM:+0100
TZOFFSETTO:+0200
TZNAME:CEST
END:DAYLIGHT
END:VTIMEZONE
END:VCALENDAR