BEGIN:VCALENDAR
VERSION:2.0
PRODID:-//wp-events-plugin.com//7.2.3.1//EN
TZID:Europe/Zurich
X-WR-TIMEZONE:Europe/Zurich
BEGIN:VEVENT
UID:473@sac-saas.ch
DTSTART;TZID=Europe/Zurich;VALUE=DATE:20250809
DTEND;TZID=Europe/Zurich;VALUE=DATE:20250811
DTSTAMP:20250808T112257Z
URL:https://sac-saas.ch/events/sac-kunstausstellung-passage-am-gemmipass-v
 on-juli-bis-oktober-2025-anmeldung-ab/
SUMMARY:L'Eveque Nordflanke / ABGESAGT
DESCRIPTION:Leider muss ich diesen Tour absagen wegen einer Verletzung!\n\n
 L'Eveque\, mit 3717 Meter\, deutlich unter 4000 Meter\, dennoch ein schön
 er Berg\, markante Spitze und relativ wenig besucht. Die Route ist einfach
  zu finden\, jedoch mit Spalten\, steileis und am Ende noch ein wenig Fels
 klettern\, sehr kombiniert. Die Erfahrung von Aufsteigen durch Steileis mi
 t Steigeisen muss in euren Portfolio sein. An sonsten können wir uns freu
 en auf einen wunderschönen Tour in sehr spektakuläre Umgebung.\n\nIch fr
 eue mich auf eure Anmeldungen\n\n\n\nAnmeldung ab:\n22.06.2025\n\n\nSchwie
 rigkeit\nWS+\n\n\nEckdaten\n750 Hm\, 1800 Hm herunter\n\n\nAusrüstung\nHo
 chtourenausrüstung\n\n\nTreffpunkt\nNZB\n\n\nTeilnehmerzahl\n6\, inkl. 2 
 TL\n\n\n\n&nbsp\;
CATEGORIES:SAC Tour
END:VEVENT
BEGIN:VTIMEZONE
TZID:Europe/Zurich
X-LIC-LOCATION:Europe/Zurich
BEGIN:DAYLIGHT
DTSTART:20250330T030000
TZOFFSETFROM:+0100
TZOFFSETTO:+0200
TZNAME:CEST
END:DAYLIGHT
END:VTIMEZONE
END:VCALENDAR