BEGIN:VCALENDAR
VERSION:2.0
PRODID:-//wp-events-plugin.com//7.2.3.1//EN
TZID:Europe/Zurich
X-WR-TIMEZONE:Europe/Zurich
BEGIN:VEVENT
UID:477@sac-saas.ch
DTSTART;TZID=Europe/Zurich;VALUE=DATE:20250914
DTEND;TZID=Europe/Zurich;VALUE=DATE:20250915
DTSTAMP:20250907T183059Z
URL:https://sac-saas.ch/events/sac-kunstausstellung-passage-am-gemmipass-a
 nmeldung-ab-15-07-2025/
SUMMARY:SAC-Kunstausstellung «Passage» am Gemmipass / Anmeldung ab 15.07.
 2025
DESCRIPTION:Ein besonderer künstlerischer Dialog mit der Alpenregion\n\nSA
 C-Kunstausstellung «Passage» am Gemmipass von Juli bis Oktober 2025\n\nA
 m 14.09.2025 planen wir eine Tageswanderung von ca. 3 Stunden über den Ge
 mmipass nach Kandersteg.\n\nWir fahren am Morgen mit dem  Zug nach Leuk\,
  nehmen den Bus nach Leukerbad und die Seilbahn auf die Gemmi. Dort starte
 n wir in Richtung Daubensee\, vorbei am Berggasthof Schwarenbach bis zur S
 pittelmatte\, der Altelshütte und der Bergstation Sunnbüel. Wir wandern 
 anschliessend weiter nach Kandersteg\, wo wir mit dem Zug wieder in Richtu
 ng Wallis zurückreisen.\n\nEs soll eine Wanderung der besonderen Art sein
 . \n\nDas Ausstellungsprojekt «Passage» lädt ein zu einem lebendigen P
 arcours über den Gemmipass\, mit künstlerischen Interventionen und ver
 schiedenen Pattformen zum Austausch und zur Reflektion. Das Projekt soll A
 lpinismusgeschichte\, Naturerkundungen und Kunst verbinden.\n\n13 Kunstsch
 affende vorwiegend aus den Kantonen Bern und Wallis werden ortsspezifische
  Werke kreieren\, die freizugänglich auf der ca. dreistündigen Strecke p
 räsentiert werden. Sie beziehen sich auf die Geschichte des Gemmipasses a
 ls bedeutendem Übergang über die Berner Alpen zwischen Leukerbad und Kan
 dersteg. Die Kunstschaffenden setzen sich auf kreative Art mit der Flora u
 nd Fauna der Region und dem Tourismus auseinander. Das «Passieren»\, das
  Erleben mit allen Sinnen soll im Vordergrund stehen. Dabei wird das Verh
 ältnis der Menschen zur Natur in Zeiten der Klimakrise anschaulich themat
 isiert.\n\nWeitere Informationen unter www.gemmi-passage.ch.\n\nSparangebo
 te für die An- und Rückreise siehe https://gemmi-passage.ch/de/ausstellu
 ng/anreise/\n\nWir freuen uns auf zahlreiche Teilnehmer und auf eine genus
 svolle Wanderung.\n\n\n\nAnmeldung ab:\n15.07.2025\n\n\nSchwierigkeit\nBer
 gwanderung T2\n\n\nEckdaten\nAbfahrt Visp Zug 08:14 nach Leuk\, Abfahrt Bu
 s 08:41 nach Leukerbad\, Abfahrt Seilbahn 09:30 nach Gemmipass. Wanderung 
 bis Kandersteg ca. 13.6 km\, Aufstieg 95m\, Abstieg 1240m\, 3Std.40Min\, R
 ückreise im Zug Kandersteg - Visp.\n\n\nAusrüstung\nWanderausrüstung\, 
 Picknick für unterwegs\n\n\nTreffpunkt\nTreffpunkt 14.09.2025 Bahnhof Vis
 p Zug 08:14\n\n\nTeilnehmerzahl\nmax. 25 Personen\n\n\n\n&nbsp\;
CATEGORIES:SAC Tour
END:VEVENT
BEGIN:VTIMEZONE
TZID:Europe/Zurich
X-LIC-LOCATION:Europe/Zurich
BEGIN:DAYLIGHT
DTSTART:20250330T030000
TZOFFSETFROM:+0100
TZOFFSETTO:+0200
TZNAME:CEST
END:DAYLIGHT
END:VTIMEZONE
END:VCALENDAR