BEGIN:VCALENDAR
VERSION:2.0
PRODID:-//wp-events-plugin.com//7.2.3.1//EN
TZID:Europe/Zurich
X-WR-TIMEZONE:Europe/Zurich
BEGIN:VEVENT
UID:412@sac-saas.ch
DTSTART;TZID=Europe/Zurich;VALUE=DATE:20250817
DTEND;TZID=Europe/Zurich;VALUE=DATE:20250818
DTSTAMP:20250815T184212Z
URL:https://sac-saas.ch/events/sac-jubilaeumsfeier-2024-anmeldung-ab-17-07
 -25/
SUMMARY:SAC Jubiläumsfeier (2024) / Anmeldung ab 12.07.25
DESCRIPTION:Wir freuen uns auf ein paar gemütliche Stunden auf der Grubena
 lp. Das Wetter meint es gut mit uns und für Speis und Trank ist gesorgt.
  \n\nDa wir leider keine Tourenleiter gefunden haben\, die die einzelnen 
 Zustiegsvarianten übernommen hätten\, kann jeder einzeln individuell zur
  Grubenalp kommen. Armida und Andrea werde von Kreuzboden um 10.00 Uhr los
 laufen und wer sie begleiten will\, kann sich ihnen anschliessen. Mario Bu
 rgener wird ab Saas-Balen um 10.00 Uhr mit dem Velo zur Grubenalp fahren. 
 Wer will\, kann sich ihm anschliessen. Die Variante Leiterweg sollte nur v
 on Personen begangen werden\, die den Weg auch kennen. \n\n36 Jahre SAC S
 aas – So. 17.08.2025\n\nDa unser Jubiläumsfest letztes Jahr ins Wasser 
 gefallen ist\, möchten wir dieses in diesem Jahr durchführen - Wir feier
 n anstelle 35 Jahre SAC-Saas 36 Jahre SAC-Saas.\n\nDer Vorstand lädt alle
  Vereinsmitglieder zu einem gemütlichen Tag auf der Grubenalp ein. Die An
 reise kann individuell erfolgen oder ihr schliesst euch einer unserer Tour
 enleiter an.\n\nDas Programm sieht wie folgt aus:\n\nCa. 11.30 Uhr Eintref
 fen auf der Clubhütte Grubenalp – kleines Apero\n\n12.30 Uhr – Mittag
 essen mit feine Grillanden und diversen Salaten\n\nAb 13.30 Uhr – Anspra
 che\, Spiel und Spass\n\nAb 16.00 Uhr – Ausklang und Abmarsch talwärts\
 n\n&nbsp\;\n\nWir bieten diverse Routen zur Grubenalp an. Bitte bei der An
 meldung das entsprechende Ticket auf unserer Homepage verwenden oder sich 
 bei unserem Präsidenten Samuel Anthamatten melden (info@sac-saas.ch / 079
  799 95 56)\n\nKreuzboden – Grubenalp\n- Start ab Kreuzboden um 10.00 Uh
 r\n\nGspon – Grubenalp\n- Start ab Gspon um 09.30 Uhr\n\nVelo - Saas-Bal
 en / Grubenalp\n- Start ab Saas-Balen um 10.00 Uhr\n\nLeiterweg - Kreuzbod
 en/Weismieshütte/"Ze Dri Seewjine"/Grubenalp\n- Start ab Saas-Grund 07.30
  Uhr\n\n&nbsp\;\n\nWichtige Hinweise:\n\n 	Der Vorstand bittet um Anmeldun
 g entweder über die Homepage oder beim Präsidenten. Der Vorstand möchte
  sicherstellen\, dass genügend Tische\, Stühle\, Getränke etc. vorhande
 n sind.\n 	Es gibt keine Schlechtwetter-Variante. Sollte das Wetter uns ei
 nen Strich durch die Rechnung machen\, werden wir vorgängig am Do. 14.08.
 2025 auf unserer Homepage informieren.\n 	Aus Umweltgründen bitten wir al
 le Teilnehmer ihr eigenes Teller\, Besteck und Becher mitzunehmen. So müs
 sen wir nicht unnötig Plastik entsorgen.\n 	Wer Kuchen\, Kekse oder ander
 e Süssigkeiten für das Dessert mitbringen will\, kann das bei der Anmeld
 ung unter «Kommentar» angeben\n 	Wer lieber mit dem Auto hoch und/oder z
 urückfahren will\, soll sich im entsprechenden Ticket eintragen.\n\nDer V
 orstand freut sich auf einen geselligen Tag mit all unseren Vereinsmitglie
 dern.
CATEGORIES:Clubanlass,SAC Tour
END:VEVENT
BEGIN:VTIMEZONE
TZID:Europe/Zurich
X-LIC-LOCATION:Europe/Zurich
BEGIN:DAYLIGHT
DTSTART:20250330T030000
TZOFFSETFROM:+0100
TZOFFSETTO:+0200
TZNAME:CEST
END:DAYLIGHT
END:VTIMEZONE
END:VCALENDAR