BEGIN:VCALENDAR
VERSION:2.0
PRODID:-//wp-events-plugin.com//7.2.3.1//EN
TZID:Europe/Zurich
X-WR-TIMEZONE:Europe/Zurich
BEGIN:VEVENT
UID:64@sac-saas.ch
DTSTART;TZID=Europe/Zurich;VALUE=DATE:20230812
DTEND;TZID=Europe/Zurich;VALUE=DATE:20230814
DTSTAMP:20230121T203518Z
URL:https://sac-saas.ch/events/rimpfishhorn/
SUMMARY:Rimpfishhorn / Anmeldung ab 01.07.2023
DESCRIPTION:&nbsp\;\n\n\n\nAnmeldung möglich ab:\n01.07.2023\, 07:00\n\n\n
 Schwierigkeit\nWS\n\n\nEckdaten\n ↑ 1500 Hm  ↓ 1500 Hm\n\n\nAusrüst
 ung\n\n\n\nTreffpunkt\n\n\n\nTeilnehmerzahl\n6 inkl. TL + SF\n\n\n\n&nbsp\
 ;
CATEGORIES:Hochtour,SAC Tour
END:VEVENT
BEGIN:VTIMEZONE
TZID:Europe/Zurich
X-LIC-LOCATION:Europe/Zurich
BEGIN:DAYLIGHT
DTSTART:20230326T030000
TZOFFSETFROM:+0100
TZOFFSETTO:+0200
TZNAME:CEST
END:DAYLIGHT
END:VTIMEZONE
END:VCALENDAR