BEGIN:VCALENDAR
VERSION:2.0
PRODID:-//wp-events-plugin.com//7.2.3.1//EN
TZID:Europe/Zurich
X-WR-TIMEZONE:Europe/Zurich
BEGIN:VEVENT
UID:614@sac-saas.ch
DTSTART;TZID=Europe/Zurich;VALUE=DATE:20260530
DTEND;TZID=Europe/Zurich;VALUE=DATE:20260531
DTSTAMP:20260312T052634Z
URL:https://sac-saas.ch/events/putztag-grubenalp-anmeldung-ab-30-04-26/
SUMMARY:Putztag Grubenalp / Anmeldung ab 28.02.2026
DESCRIPTION:Jedes Jahr vor der Sommersaison bringen wir unsere Hütte auf d
 er Grubenalp auf Vordermann. Es wird gewaschen\, geklopft\, gehackt\, gepu
 tzt und sicher auch gekocht. Wir suchen Helfer.\n\nAls Belohnung winkt ein
  Helfer-Bonus\n\n\n\nAnmeldung ab:\n28.02.2026\n\n\nTreffpunkt\n\n\n\n\n&n
 bsp\;
CATEGORIES:Clubanlass,SAC Tour
END:VEVENT
BEGIN:VTIMEZONE
TZID:Europe/Zurich
X-LIC-LOCATION:Europe/Zurich
BEGIN:DAYLIGHT
DTSTART:20260329T030000
TZOFFSETFROM:+0100
TZOFFSETTO:+0200
TZNAME:CEST
END:DAYLIGHT
END:VTIMEZONE
END:VCALENDAR