BEGIN:VCALENDAR
VERSION:2.0
PRODID:-//wp-events-plugin.com//7.2.3.1//EN
TZID:Europe/Zurich
X-WR-TIMEZONE:Europe/Zurich
BEGIN:VEVENT
UID:409@sac-saas.ch
DTSTART;TZID=Europe/Zurich;VALUE=DATE:20250607
DTEND;TZID=Europe/Zurich;VALUE=DATE:20250608
DTSTAMP:20250604T122734Z
URL:https://sac-saas.ch/events/putztag-grubenalp-anmeldung-ab-07-05-25/
SUMMARY:Putztag Grubenalp / Anmeldung ab 07.05.25
DESCRIPTION:Wir brauchen wieder fleissige Hände\n\n\n\nAnmeldung ab:\n07.0
 5.24\n\n\nSchwierigkeit\n\n\n\nEckdaten\n\n\n\nAusrüstung\n\n\n\nTreffpun
 kt\n\n\n\nTeilnehmerzahl\n8\n\n\n\n&nbsp\;
CATEGORIES:SAC Tour
END:VEVENT
BEGIN:VTIMEZONE
TZID:Europe/Zurich
X-LIC-LOCATION:Europe/Zurich
BEGIN:DAYLIGHT
DTSTART:20250330T030000
TZOFFSETFROM:+0100
TZOFFSETTO:+0200
TZNAME:CEST
END:DAYLIGHT
END:VTIMEZONE
END:VCALENDAR