BEGIN:VCALENDAR
VERSION:2.0
PRODID:-//wp-events-plugin.com//7.2.3.1//EN
TZID:Europe/Zurich
X-WR-TIMEZONE:Europe/Zurich
BEGIN:VEVENT
UID:628@sac-saas.ch
DTSTART;TZID=Europe/Zurich;VALUE=DATE:20260627
DTEND;TZID=Europe/Zurich;VALUE=DATE:20260629
DTSTAMP:20260420T202010Z
URL:https://sac-saas.ch/events/oberaarhorm-3629-m-anmeldung-ab-15-05-2026/
SUMMARY:Oberaarhorm 3629 m / Anmeldung ab 15.05.2026
DESCRIPTION:&nbsp\;\n\n\n\nAnmeldung ab:\n15.05.2026\n\n\nSchwierigkeit\nL\
 n\n\nEckdaten\n↑970 / ↑374 ↓1344\n\n\nAusrüstung\nHochalpine Ausrü
 stung\, Helm\, Steigeisen\, Eispickel\n\n\nTreffpunkt\nWird noch bekanntge
 gen\n\n\nTeilnehmerzahl\nTourenleiter +2 Seilführer und 6 Teilnehmer\n\n\
 n\nErster Tag.Der Zustieg erfolgt vom Berghaus  Oberaar 2338m bis zur Obe
 raajochhütte 3258m ca. 5 h 970m\n\nZweiter Tag. Besteigung Oberaarhorn 36
 29m. Start Oberaarjochhütte bis Gipfel ca. 2 h 374 m Abstieg gleiche Rout
 e bis Berghaus Oberaarsee. 1344 h
CATEGORIES:Bergtour,SAC Tour
END:VEVENT
BEGIN:VTIMEZONE
TZID:Europe/Zurich
X-LIC-LOCATION:Europe/Zurich
BEGIN:DAYLIGHT
DTSTART:20260329T030000
TZOFFSETFROM:+0100
TZOFFSETTO:+0200
TZNAME:CEST
END:DAYLIGHT
END:VTIMEZONE
END:VCALENDAR