BEGIN:VCALENDAR
VERSION:2.0
PRODID:-//wp-events-plugin.com//7.2.3.1//EN
TZID:Europe/Zurich
X-WR-TIMEZONE:Europe/Zurich
BEGIN:VEVENT
UID:627@sac-saas.ch
DTSTART;TZID=Europe/Zurich;VALUE=DATE:20260925
DTEND;TZID=Europe/Zurich;VALUE=DATE:20260928
DTSTAMP:20260325T195748Z
URL:https://sac-saas.ch/events/neu-klettertage-im-piemont-anmeldung-ab-01-
 08-2026/
SUMMARY:Neu-Klettertage im Piemont / Anmeldung ab 01.08.2026
DESCRIPTION:Infos folgen\n\n\n\nAnmeldung ab:\n\n\n\nSchwierigkeit\n5a\, Vo
 rstieg sichern können\n\n\n\n\n\n\nAusrüstung\n\n\n\nTreffpunkt\n\n\n\nT
 eilnehmerzahl\n\n\n\n\n&nbsp\;
CATEGORIES:SAC Tour
END:VEVENT
BEGIN:VTIMEZONE
TZID:Europe/Zurich
X-LIC-LOCATION:Europe/Zurich
BEGIN:DAYLIGHT
DTSTART:20260329T030000
TZOFFSETFROM:+0100
TZOFFSETTO:+0200
TZNAME:CEST
END:DAYLIGHT
END:VTIMEZONE
END:VCALENDAR