BEGIN:VCALENDAR
VERSION:2.0
PRODID:-//wp-events-plugin.com//7.2.3.1//EN
TZID:Europe/Zurich
X-WR-TIMEZONE:Europe/Zurich
BEGIN:VEVENT
UID:478@sac-saas.ch
DTSTART;TZID=Europe/Zurich;VALUE=DATE:20251003
DTEND;TZID=Europe/Zurich;VALUE=DATE:20251006
DTSTAMP:20250927T210255Z
URL:https://sac-saas.ch/events/neu-herbstklettertage-im-piemont-anmeldung-
 ab-30-06-2025/
SUMMARY:Neu-Herbstklettertage im Piemont / Anmeldung ab 30.06.2025
DESCRIPTION:Statt in die Engelhörner-Region im Sept. gehen wir aufgrund ei
 ner fam. Terminkollision für 3 Tage im Okt. ins nahe gelegene Piemont. He
 rbstklettertage zum Ende der Saison.\n\nUnser Ausgangspunkt wird Baveno se
 in. Wir haben eine grosse Auswahl an verschiedenen Klettergärten in der N
 ähe (Gravellona\, Mottarone\, Ornavasso\, Nebbio\, usw.) und wir entschei
 den nach TN-zahl\, Niveau\, Lust und Laune und natürlich dem Wetter\, woh
 in es geht.\n\nEs ist möglich auch nur 1 Tag oder 2 oder 3 Tage mitzukomm
 en. Bitte unbedingt bei der Anmeldung angeben. Als Unterkunft haben wir Mo
 bilhomes auf einem Camping reserviert für je 2-4 oder 4-6 Pers.\, das Fr
 ühstück werden wir dort organisieren. \n\nVielleicht langt es nach dem 
 Klettern noch für einen Sprung in den See. Abends gibts in Baveno viele M
 öglichkeiten für Pizza und Co.\, wo wir gemeinsam den Tag ausklingen las
 sen.\n\nAnmeldung bis 26.09.2025 oder danach nach telefonischer Absprache\
 n\n\n\n\n\n\n\nSchwierigkeit\nab 5.Grad\n\n\nEckdaten\n\n\n\nAusrüstung\n
 wird via Chat abgesprochen\n\n\nTreffpunkt\n\n\n\nTeilnehmerzahl\n15 inkl.
  TL und SF\n\n\n\n&nbsp\;
CATEGORIES:SAC Tour
END:VEVENT
BEGIN:VTIMEZONE
TZID:Europe/Zurich
X-LIC-LOCATION:Europe/Zurich
BEGIN:DAYLIGHT
DTSTART:20250330T030000
TZOFFSETFROM:+0100
TZOFFSETTO:+0200
TZNAME:CEST
END:DAYLIGHT
END:VTIMEZONE
END:VCALENDAR