BEGIN:VCALENDAR
VERSION:2.0
PRODID:-//wp-events-plugin.com//7.2.3.1//EN
TZID:Europe/Zurich
X-WR-TIMEZONE:Europe/Zurich
BEGIN:VEVENT
UID:494@sac-saas.ch
DTSTART;TZID=Europe/Zurich;VALUE=DATE:20260703
DTEND;TZID=Europe/Zurich;VALUE=DATE:20260705
DTSTAMP:20260401T080054Z
URL:https://sac-saas.ch/events/nadelhorn-4327m-anmeldung-ab-01-06-2026/
SUMMARY:Nadelhorn 4327m / Anmeldung ab 01.06.2026
DESCRIPTION:Das Nadelhorn ist ein beliebter Viertausender der Mischabelkett
 e mit einem nicht zu unterschätzenden Aufstieg in die Mischabelhütte\, w
 elche recht hoch auf 3340 m.ü.M liegt.\n\n\n\nAnmeldung ab:\n01.06.2026\n
 \n\nSchwierigkeit\nWS\n\n\nEckdaten\n1000 hm ab Mischabelhütte 3340m\, la
 nger Abstieg\n\n\nAusrüstung\nHochtourenausrüstung\, Gurt\, Helm\, Picke
 l\, Stirnlampe\, Seidenschlafsack\, Schraubkarabiner\, Schlinge\, Sonnensc
 hutz\n\n\nTreffpunkt\n13:15 Uhr Talstation Hannigbahn\n\n\nTeilnehmerzahl\
 n6 inkl TL Diana und SF Francine\n\n\n\n&nbsp\;
CATEGORIES:Hochtour,SAC Tour
END:VEVENT
BEGIN:VTIMEZONE
TZID:Europe/Zurich
X-LIC-LOCATION:Europe/Zurich
BEGIN:DAYLIGHT
DTSTART:20260329T030000
TZOFFSETFROM:+0100
TZOFFSETTO:+0200
TZNAME:CEST
END:DAYLIGHT
END:VTIMEZONE
END:VCALENDAR