BEGIN:VCALENDAR
VERSION:2.0
PRODID:-//wp-events-plugin.com//7.2.3.1//EN
TZID:Europe/Zurich
X-WR-TIMEZONE:Europe/Zurich
BEGIN:VEVENT
UID:31@sac-saas.ch
DTSTART;TZID=Europe/Zurich;VALUE=DATE:20230128
DTEND;TZID=Europe/Zurich;VALUE=DATE:20230129
DTSTAMP:20230122T192607Z
URL:https://sac-saas.ch/events/mund-brischeru/
SUMMARY:Schneeschuhtour Mund - Brischeru / Anmeldung ab 20.12.2022 Verschob
 en auf 28.1!
DESCRIPTION:Wunderschöne Tour auf der Sonnenseite des Rhonetales. Von der 
 Alp Brischeru gibt es ein sehr schöne Aussicht auf die südlichen Wallise
 r Täler.\n\n\n\nAnmeldung möglich ab:\n20.12.2022\, 07:00\n\n\nSchwierig
 keit\nWT3\n\n\nEckdaten\n ↑ 850 Hm  ↓ 850 Hm --&gt\; 5-6 h\n\n\nAusr
 üstung\nWinterausrüstung inkl. Lawine-Ausrüstung\n\n\nTreffpunkt\nBrig 
 Bahnhof\n\n\nTeilnehmerzahl\n6\n\n\n\n&nbsp\;
CATEGORIES:SAC Tour,Schneeschuhtour
END:VEVENT
BEGIN:VTIMEZONE
TZID:Europe/Zurich
X-LIC-LOCATION:Europe/Zurich
BEGIN:STANDARD
DTSTART:20221030T020000
TZOFFSETFROM:+0200
TZOFFSETTO:+0100
TZNAME:CET
END:STANDARD
END:VTIMEZONE
END:VCALENDAR