BEGIN:VCALENDAR
VERSION:2.0
PRODID:-//wp-events-plugin.com//7.2.3.1//EN
TZID:Europe/Zurich
X-WR-TIMEZONE:Europe/Zurich
BEGIN:VEVENT
UID:53@sac-saas.ch
DTSTART;TZID=Europe/Zurich;VALUE=DATE:20231007
DTEND;TZID=Europe/Zurich;VALUE=DATE:20231008
DTSTAMP:20230121T205210Z
URL:https://sac-saas.ch/events/mslmittagfluh/
SUMMARY:MSL Mittagfluh (Guttannen) / Anmeldung ab 07.09.2023
DESCRIPTION:Mehrseillängen Klettern an der Mittagfluh\n\n\n\nAnmeldung mö
 glich ab:\n07.09.2023\, 07:00\n\n\nSchwierigkeit\n5a\n\n\nEckdaten\n ↑ 
 650 Hm  ↓ 650 Hm -&gt\; ganzer Tag\n\n\nAusrüstung\nMSL Ausrüstung Ko
 mplett\n\n\nTreffpunkt\n\n\n\nTeilnehmerzahl\n4\, TL Fercher P.\, SL Stein
 er M.\, 2 Teilnehmer\n\n\n\n&nbsp\;
CATEGORIES:Klettern,SAC Tour
END:VEVENT
BEGIN:VTIMEZONE
TZID:Europe/Zurich
X-LIC-LOCATION:Europe/Zurich
BEGIN:DAYLIGHT
DTSTART:20230326T030000
TZOFFSETFROM:+0100
TZOFFSETTO:+0200
TZNAME:CEST
END:DAYLIGHT
END:VTIMEZONE
END:VCALENDAR