BEGIN:VCALENDAR
VERSION:2.0
PRODID:-//wp-events-plugin.com//7.2.3.1//EN
TZID:Europe/Zurich
X-WR-TIMEZONE:Europe/Zurich
BEGIN:VEVENT
UID:52@sac-saas.ch
DTSTART;TZID=Europe/Zurich;VALUE=DATE:20230717
DTEND;TZID=Europe/Zurich;VALUE=DATE:20230718
DTSTAMP:20230601T054955Z
URL:https://sac-saas.ch/events/mslkleinfurkahorn/
SUMMARY:MSL Klein Furkahorn / Anmeldung ab 17.06.2023
DESCRIPTION:Mehrseillängenroute am klein Furkahorn.\n\nRoute wird gemäss 
 Teilnehmer angepasst.\n\n\n\nAnmeldung möglich ab:\n17.06.2023\, 07:00\n\
 n\nSchwierigkeit\n5a\n\n\nEckdaten\n ↑ 600 Hm  ↓ 600 Hm -&gt\; ganze
 r Tag\n\n\nAusrüstung\nMSL Ausrüstung\, Helm\, Klettergurt\, Kletterschu
 he\, Sicherungsgerät (Reverso oder ähnlich)\, 2 Schraub Karabiner\, Selb
 ssicherungsschlinge\n\n\nTreffpunkt\nBelvedere\n\n\nTeilnehmerzahl\n3\, TL
  Fercher P. 2 Teilnehmer\n\n\n\n&nbsp\;
CATEGORIES:SAC Tour
END:VEVENT
BEGIN:VTIMEZONE
TZID:Europe/Zurich
X-LIC-LOCATION:Europe/Zurich
BEGIN:DAYLIGHT
DTSTART:20230326T030000
TZOFFSETFROM:+0100
TZOFFSETTO:+0200
TZNAME:CEST
END:DAYLIGHT
END:VTIMEZONE
END:VCALENDAR