BEGIN:VCALENDAR
VERSION:2.0
PRODID:-//wp-events-plugin.com//7.2.3.1//EN
TZID:Europe/Zurich
X-WR-TIMEZONE:Europe/Zurich
BEGIN:VEVENT
UID:51@sac-saas.ch
DTSTART;TZID=Europe/Zurich;VALUE=DATE:20230612
DTEND;TZID=Europe/Zurich;VALUE=DATE:20230613
DTSTAMP:20230521T172001Z
URL:https://sac-saas.ch/events/msljaegihorn/
SUMMARY:MSL Jägihorn (Hohsaas) / Anmeldung ab 12.05.2023
DESCRIPTION:Mehrseillängenroute auf das Jägihorn.\n\nRoute Alpendurst.\n\
 nAusgebucht!!!\n\n\n\nAnmeldung möglich ab:\n12.05.2023\, 07:00\n\n\nSchw
 ierigkeit\n4c\n\n\nEckdaten\n ↑ 800 Hm  ↓ 800 Hm -&gt\; ganzer Tag\n
 \n\nAusrüstung\nMSL Ausrüstung\, Helm\, Klettergurt\, Kletterschuhe\, Si
 cherungsgerät (Reverso oder ähnlich)\, Standschlaufe.\n\n\nTreffpunkt\nS
 aas Grund Talstation Hohsaas\n\n\nTeilnehmerzahl\n4\, TL Fercher P.\, SL S
 teiner M. und 2 Teilnehmer\n\n\n\n&nbsp\;
CATEGORIES:SAC Tour
END:VEVENT
BEGIN:VTIMEZONE
TZID:Europe/Zurich
X-LIC-LOCATION:Europe/Zurich
BEGIN:DAYLIGHT
DTSTART:20230326T030000
TZOFFSETFROM:+0100
TZOFFSETTO:+0200
TZNAME:CEST
END:DAYLIGHT
END:VTIMEZONE
END:VCALENDAR