BEGIN:VCALENDAR
VERSION:2.0
PRODID:-//wp-events-plugin.com//7.2.3.1//EN
TZID:Europe/Zurich
X-WR-TIMEZONE:Europe/Zurich
BEGIN:VEVENT
UID:254@sac-saas.ch
DTSTART;TZID=Europe/Zurich;VALUE=DATE:20240824
DTEND;TZID=Europe/Zurich;VALUE=DATE:20240825
DTSTAMP:20240129T145619Z
URL:https://sac-saas.ch/events/msl-klettern-wiwannihorn/
SUMMARY:MSL Klettern Wiwannihorn / Anmeldung ab 24.07.2024
DESCRIPTION:&nbsp\;\n\n\n\nAnmeldung möglich ab:\n24.07.2024\n\n\nSchwieri
 gkeit\n5a-c\, alpines Klettern\n\n\nEckdaten\n\n\n\nAusrüstung\n\n\n\nTre
 ffpunkt\n\n\n\nTeilnehmerzahl\n6 inkl. TL und SF\n\n\n\n&nbsp\;
CATEGORIES:SAC Tour
END:VEVENT
BEGIN:VTIMEZONE
TZID:Europe/Zurich
X-LIC-LOCATION:Europe/Zurich
BEGIN:DAYLIGHT
DTSTART:20240331T030000
TZOFFSETFROM:+0100
TZOFFSETTO:+0200
TZNAME:CEST
END:DAYLIGHT
END:VTIMEZONE
END:VCALENDAR