BEGIN:VCALENDAR
VERSION:2.0
PRODID:-//wp-events-plugin.com//7.2.3.1//EN
TZID:Europe/Zurich
X-WR-TIMEZONE:Europe/Zurich
BEGIN:VEVENT
UID:279@sac-saas.ch
DTSTART;TZID=Europe/Zurich;VALUE=DATE:20240726
DTEND;TZID=Europe/Zurich;VALUE=DATE:20240728
DTSTAMP:20240710T044311Z
URL:https://sac-saas.ch/events/msl-klettern-chamonix-anmeldung-ab-01-05-20
 24/
SUMMARY:MSL-Klettern Chamonix/ Anmeldung ab 01.05.2024
DESCRIPTION:Wir verbringen 2 Tage am Fels in der Region um Chamonix. Die MS
 L-Routen legen wir kurzfristig fest\, je nach TN und Wetter. Wir haben meh
 rere verschiedene Optionen:\n\nRouten bei Vallorcine im Vallon de Berard\,
  Klettern am Brevent oder La Flegere\n\nDie Routen Voie Gaspard premier un
 d die lange Route Voie Ravanel (beide 5c\; 5b obl.) könnten die Highlight
 s sein.\n\nWir übernachten ca. 1\,5 km von Chamonix entfernt in einer ein
 fachen Unterkunft mit Frühstück. Gemeinsames Abendessen in Chamonix selb
 er.\n\n(Zusatzkosten: anteilig Fahrtkosten\, Übernachtung/Frühstück (ca
 . 55 Euro)\, Abendessen\, Bahnfahrt)\n\n\n\nAnmeldung möglich ab:\n01.06.
 2024\n\n\nSchwierigkeit\n5 b\n\n\nEckdaten\n\n\n\nAusrüstung\nnach Abspra
 che\n\n\nTreffpunkt\n\n\n\nTeilnehmerzahl\n10 incl. TL Simone und Jan\n\n\
 n\n&nbsp\;
CATEGORIES:Klettern,SAC Tour
END:VEVENT
BEGIN:VTIMEZONE
TZID:Europe/Zurich
X-LIC-LOCATION:Europe/Zurich
BEGIN:DAYLIGHT
DTSTART:20240331T030000
TZOFFSETFROM:+0100
TZOFFSETTO:+0200
TZNAME:CEST
END:DAYLIGHT
END:VTIMEZONE
END:VCALENDAR