BEGIN:VCALENDAR
VERSION:2.0
PRODID:-//wp-events-plugin.com//7.2.3.1//EN
TZID:Europe/Zurich
X-WR-TIMEZONE:Europe/Zurich
BEGIN:VEVENT
UID:220@sac-saas.ch
DTSTART;TZID=Europe/Zurich;VALUE=DATE:20240707
DTEND;TZID=Europe/Zurich;VALUE=DATE:20240708
DTSTAMP:20240705T180629Z
URL:https://sac-saas.ch/events/msl-jaegigrat-anmeldung-ab-03-06-2024/
SUMMARY:Abgesagt! MSL Jägigrat / Anmeldung ab 03.06.2024
DESCRIPTION:Mehrseillängen Klettern\n\n\n\nAnmeldung möglich ab:\n03.06.2
 024\, 07:00\n\n\nSchwierigkeit\n5c+\n\n\nEckdaten\n ↑ 1000 Hm  ↓ 100
 0 Hm =&gt\; Klettern 350 Hm\n\n\nAusrüstung\nMSL Ausrüstung Komplett\n\n
 \nTreffpunkt\n\n\n\nTeilnehmerzahl\n4\, TL Fercher P.\, SL Steiner M.\, 2 
 Teilnehmer\n\n\n\n&nbsp\;
CATEGORIES:Klettern,SAC Tour
END:VEVENT
BEGIN:VTIMEZONE
TZID:Europe/Zurich
X-LIC-LOCATION:Europe/Zurich
BEGIN:DAYLIGHT
DTSTART:20240331T030000
TZOFFSETFROM:+0100
TZOFFSETTO:+0200
TZNAME:CEST
END:DAYLIGHT
END:VTIMEZONE
END:VCALENDAR