BEGIN:VCALENDAR
VERSION:2.0
PRODID:-//wp-events-plugin.com//7.2.3.1//EN
TZID:Europe/Zurich
X-WR-TIMEZONE:Europe/Zurich
BEGIN:VEVENT
UID:217@sac-saas.ch
DTSTART;TZID=Europe/Zurich;VALUE=DATE:20240427
DTEND;TZID=Europe/Zurich;VALUE=DATE:20240428
DTSTAMP:20240401T090723Z
URL:https://sac-saas.ch/events/msl-gondoschlucht-anmeldung-ab-01-04-2024/
SUMMARY:MSL Gondoschlucht\, Anmeldung ab 01.04.2024
DESCRIPTION:Mehrseillängen Klettern in Gondo.\n\n\n\nAnmeldung möglich ab
 :\n01.04.2024\, 07:00\n\n\nSchwierigkeit\n6a\n\n\nEckdaten\n ↑ 350 Hm 
  ↓ 350 Hm\n\n\nAusrüstung\nMSL Ausrüstung Komplett\n\n\nTreffpunkt\n\n
 \n\nTeilnehmerzahl\n3\, TL Fercher P.\, 2 Teilnehmer\n\n\n\n&nbsp\;
CATEGORIES:Klettern,SAC Tour
END:VEVENT
BEGIN:VTIMEZONE
TZID:Europe/Zurich
X-LIC-LOCATION:Europe/Zurich
BEGIN:DAYLIGHT
DTSTART:20240331T030000
TZOFFSETFROM:+0100
TZOFFSETTO:+0200
TZNAME:CEST
END:DAYLIGHT
END:VTIMEZONE
END:VCALENDAR