BEGIN:VCALENDAR
VERSION:2.0
PRODID:-//wp-events-plugin.com//7.2.3.1//EN
TZID:Europe/Zurich
X-WR-TIMEZONE:Europe/Zurich
BEGIN:VEVENT
UID:508@sac-saas.ch
DTSTART;TZID=Europe/Zurich:20260723T180000
DTEND;TZID=Europe/Zurich:20260723T210000
DTSTAMP:20260401T081611Z
URL:https://sac-saas.ch/events/msl-feierabendtour-brandgraben-anmeldung-ab
 -25-06-2026/
SUMMARY:MSL Feierabendtour Brandgraben / Anmeldung ab 25.06.2026
DESCRIPTION:&nbsp\;\n\n\n\nAnmeldung ab:\n25.06.2026\n\n\nSchwierigkeit\n5a
  4SL / 5c 6SL\n\n\nEckdaten\n↑170 ↓ 300\n\n\nAusrüstung\nMehrseillän
 ge Ausrüstung (Details folgen)\n\n\nTreffpunkt\nZermeiggern\n\n\nTeilnehm
 erzahl\n3\n\n\n\n&nbsp\;
CATEGORIES:Klettern,SAC Tour
END:VEVENT
BEGIN:VTIMEZONE
TZID:Europe/Zurich
X-LIC-LOCATION:Europe/Zurich
BEGIN:DAYLIGHT
DTSTART:20260329T030000
TZOFFSETFROM:+0100
TZOFFSETTO:+0200
TZNAME:CEST
END:DAYLIGHT
END:VTIMEZONE
END:VCALENDAR