BEGIN:VCALENDAR
VERSION:2.0
PRODID:-//wp-events-plugin.com//7.2.3.1//EN
TZID:Europe/Zurich
X-WR-TIMEZONE:Europe/Zurich
BEGIN:VEVENT
UID:65@sac-saas.ch
DTSTART;TZID=Europe/Zurich;VALUE=DATE:20230909
DTEND;TZID=Europe/Zurich;VALUE=DATE:20230910
DTSTAMP:20230820T182533Z
URL:https://sac-saas.ch/events/msl-am-wiwanni/
SUMMARY:MSL am Wiwanni / abgesagt
DESCRIPTION:Aus privaten Gründen muss ich die Tour leider absagen\, Luca\n
 \n\n\nAnmeldung möglich ab:\n01.08.2023\, 07:00\n\n\nSchwierigkeit\n4c-5c
 \n\n\nEckdaten\n ↑ 1150 Hm  ↓ 1150 Hm -&gt\; x h\n\n\nAusrüstung\n\
 n\n\nTreffpunkt\n\n\n\nTeilnehmerzahl\n6 inkl TL + SF\n\n\n\n&nbsp\;
CATEGORIES:SAC Tour
END:VEVENT
BEGIN:VTIMEZONE
TZID:Europe/Zurich
X-LIC-LOCATION:Europe/Zurich
BEGIN:DAYLIGHT
DTSTART:20230326T030000
TZOFFSETFROM:+0100
TZOFFSETTO:+0200
TZNAME:CEST
END:DAYLIGHT
END:VTIMEZONE
END:VCALENDAR