BEGIN:VCALENDAR
VERSION:2.0
PRODID:-//wp-events-plugin.com//7.2.3.1//EN
TZID:Europe/Zurich
X-WR-TIMEZONE:Europe/Zurich
BEGIN:VEVENT
UID:495@sac-saas.ch
DTSTART;TZID=Europe/Zurich;VALUE=DATE:20260711
DTEND;TZID=Europe/Zurich;VALUE=DATE:20260713
DTSTAMP:20260401T081023Z
URL:https://sac-saas.ch/events/mont-blanc-de-cheilon-3870m-anmeldung-ab-01
 -06-2026/
SUMMARY:Mont Blanc de Cheilon 3870m / Anmeldung ab 01.06.2026
DESCRIPTION:Der formschöne Mont Blanc de Cheilon bildet den Abschluss des 
 Val des Dix. Wir werden kurzfristig entscheiden\, welchen Hüttenweg wir n
 ehmen und ob eine Überschreitung möglich wäre. Es ist eine lange Tour.\
 n\n\n\nAnmeldung ab:\n01.06.2026\n\n\nSchwierigkeit\nZS\n\n\nEckdaten\nCab
 ane des Dix 2928m\n\n\nAusrüstung\nHochtourenausrüstung\, Gurt\, Helm\, 
 Steigeisen\, Pickel\, Seidenschlafsack\, Stirnlampe\n\n\nTreffpunkt\nwird 
 kurz vorher bekannt gegeben\, je nach Zustieg zur Hütte\n\n\nTeilnehmerza
 hl\n4 inkl TL Diana und SF Vedrana\n\n\n\n&nbsp\;
CATEGORIES:Hochtour,SAC Tour
END:VEVENT
BEGIN:VTIMEZONE
TZID:Europe/Zurich
X-LIC-LOCATION:Europe/Zurich
BEGIN:DAYLIGHT
DTSTART:20260329T030000
TZOFFSETFROM:+0100
TZOFFSETTO:+0200
TZNAME:CEST
END:DAYLIGHT
END:VTIMEZONE
END:VCALENDAR