BEGIN:VCALENDAR
VERSION:2.0
PRODID:-//wp-events-plugin.com//7.2.3.1//EN
TZID:Europe/Zurich
X-WR-TIMEZONE:Europe/Zurich
BEGIN:VEVENT
UID:531@sac-saas.ch
DTSTART;TZID=Europe/Zurich;VALUE=DATE:20260714
DTEND;TZID=Europe/Zurich;VALUE=DATE:20260715
DTSTAMP:20251123T185945Z
URL:https://sac-saas.ch/events/mehrseillaengenklettern-zeneggen-wieso-nich
 t-du-o-anmeldung-ab-14-06-26/
SUMMARY:Mehrseillängenklettern Zeneggen\, wieso nicht du!!! \;o) / Anmeldu
 ng ab 14.06.26
DESCRIPTION:Gerne möchten wir den Interessierten Klettern die Verschneidun
 g in Zeneggen unter die Füsse und Arme bringen.\n\nDie Verschneidung in Z
 eneggen ist eine klasische Mehrseillängenroute\, die jeder Kletterer aus 
 dem Oberwallis\, mal begehen sollte.\n\nDa es sich um 4 SL handelt und rel
 ativ kurz ist\, kann diese sehr gut an einem Sommerabend angegangen werden
 .\n\nEs stehen 2 mögliche Varianten zur Auswahl.\n\nDie Klassische Versch
 neidung\, 5a+ (nicht ganz zu unterschätzen)\n\nDer Ueli sechser\, 6b\n\nE
 ntsprechend dem können der Teilnehmer werden wir uns für die machbare To
 ur entscheiden.\n\n\n\nAnmeldung ab:\n14.06.26\n\n\nSchwierigkeit\n5a+ ode
 r 6b\n\n\nEckdaten\n\n\n\nAusrüstung\n\n\n\nTreffpunkt\nVisp BH Süd\, Ze
 it ca. 15:30-16:30\n\n\nTeilnehmerzahl\n3 mit TL oder 6 mit SF und TL\n\n\
 n\n&nbsp\;
CATEGORIES:Klettern,SAC Tour
END:VEVENT
BEGIN:VTIMEZONE
TZID:Europe/Zurich
X-LIC-LOCATION:Europe/Zurich
BEGIN:DAYLIGHT
DTSTART:20260329T030000
TZOFFSETFROM:+0100
TZOFFSETTO:+0200
TZNAME:CEST
END:DAYLIGHT
END:VTIMEZONE
END:VCALENDAR