BEGIN:VCALENDAR
VERSION:2.0
PRODID:-//wp-events-plugin.com//7.2.3.1//EN
TZID:Europe/Zurich
X-WR-TIMEZONE:Europe/Zurich
BEGIN:VEVENT
UID:532@sac-saas.ch
DTSTART;TZID=Europe/Zurich;VALUE=DATE:20260822
DTEND;TZID=Europe/Zurich;VALUE=DATE:20260823
DTSTAMP:20251123T190933Z
URL:https://sac-saas.ch/events/mehrseillaengenklettern-jaegigrat-anmeldung
 -ab-22-07-26/
SUMMARY:Mehrseillängenklettern Jägigrat / Anmeldung ab 22.07.26
DESCRIPTION:Mehrseillängenklettern Jägigrat\, Gratkletterei/Klettersteig 
 aufs Jägihorn\n\n\n\nAnmeldung ab:\n22.07.26\n\n\nSchwierigkeit\n5c obl.\
 n\n\nEckdaten\n\n\n\nAusrüstung\n\n\n\nTreffpunkt\nWird später bekannt g
 egeben\n\n\nTeilnehmerzahl\n4 mit TL und SF\n\n\n\n&nbsp\;
CATEGORIES:Klettern,SAC Tour
END:VEVENT
BEGIN:VTIMEZONE
TZID:Europe/Zurich
X-LIC-LOCATION:Europe/Zurich
BEGIN:DAYLIGHT
DTSTART:20260329T030000
TZOFFSETFROM:+0100
TZOFFSETTO:+0200
TZNAME:CEST
END:DAYLIGHT
END:VTIMEZONE
END:VCALENDAR