BEGIN:VCALENDAR
VERSION:2.0
PRODID:-//wp-events-plugin.com//7.2.3.1//EN
TZID:Europe/Zurich
X-WR-TIMEZONE:Europe/Zurich
BEGIN:VEVENT
UID:389@sac-saas.ch
DTSTART;TZID=Europe/Zurich;VALUE=DATE:20251018
DTEND;TZID=Europe/Zurich;VALUE=DATE:20251019
DTSTAMP:20251001T120654Z
URL:https://sac-saas.ch/events/mehrseillaengenklettern-im-ossolatal-anmeld
 ung-ab-18-09-2025/
SUMMARY:Es hat noch Platz für 3! Mehrseillängenklettern im Ossolatal / An
 meldung ab 18.09.2025
DESCRIPTION:\n 	Der Ursprüngliche Plan der weissen Platten in der nähe vo
 n Domodossola\, muss geändert werden. Der Zustieg und der Zustand der Kle
 ttertouren sind nicht mehr in einem guten Zustand. Als ich Ende 2024 diese
  Tour aufsuchte um diese zu begehen\, mussten wir fest stellen das sich hi
 er das Klettern nicht mehr lohnt.\n\nWir werden eine MSL Tour in Angriff n
 ehmen in Italien in der Nähe von Domodossola.\n\nGenaue Angaben werden sp
 äter bekannt gegeben.\n\n&nbsp\;\n\n&nbsp\;\n\n\n\nAnmeldung ab:\n18.09.2
 025\n\n\nSchwierigkeit\n5c+\n\n\nEckdaten\nmax. 350 Meter\n\n\nAusrüstung
 \nMSL Ausrüstung\n\n\nTreffpunkt\nBrig\n\n\nTeilnehmerzahl\n1 TL\, 1 SL\,
  4 Teilnehmer\n\n\n\n&nbsp\;
CATEGORIES:SAC Tour
END:VEVENT
BEGIN:VTIMEZONE
TZID:Europe/Zurich
X-LIC-LOCATION:Europe/Zurich
BEGIN:DAYLIGHT
DTSTART:20250330T030000
TZOFFSETFROM:+0100
TZOFFSETTO:+0200
TZNAME:CEST
END:DAYLIGHT
END:VTIMEZONE
END:VCALENDAR