BEGIN:VCALENDAR
VERSION:2.0
PRODID:-//wp-events-plugin.com//7.2.3.1//EN
TZID:Europe/Zurich
X-WR-TIMEZONE:Europe/Zurich
BEGIN:VEVENT
UID:533@sac-saas.ch
DTSTART;TZID=Europe/Zurich;VALUE=DATE:20261010
DTEND;TZID=Europe/Zurich;VALUE=DATE:20261011
DTSTAMP:20251123T190910Z
URL:https://sac-saas.ch/events/mehrseillaengenklettern-gondo-ossola-anmeld
 ung-ab-10-09-26/
SUMMARY:Mehrseillängenklettern Gondo Ossola / Anmeldung ab 10.09.26
DESCRIPTION:&nbsp\;\n\n\n\nAnmeldung ab:\n10.09.26\n\n\nSchwierigkeit\n5a o
 der 6b\n\n\nEckdaten\n\n\n\nAusrüstung\n\n\n\nTreffpunkt\nwird später be
 kannt gegeben\n\n\nTeilnehmerzahl\n6 mit TL und SF\n\n\n\n&nbsp\;
CATEGORIES:Klettern,SAC Tour
END:VEVENT
BEGIN:VTIMEZONE
TZID:Europe/Zurich
X-LIC-LOCATION:Europe/Zurich
BEGIN:DAYLIGHT
DTSTART:20260329T030000
TZOFFSETFROM:+0100
TZOFFSETTO:+0200
TZNAME:CEST
END:DAYLIGHT
END:VTIMEZONE
END:VCALENDAR