BEGIN:VCALENDAR
VERSION:2.0
PRODID:-//wp-events-plugin.com//7.2.3.1//EN
TZID:Europe/Zurich
X-WR-TIMEZONE:Europe/Zurich
BEGIN:VEVENT
UID:388@sac-saas.ch
DTSTART;TZID=Europe/Zurich;VALUE=DATE:20250823
DTEND;TZID=Europe/Zurich;VALUE=DATE:20250824
DTSTAMP:20250819T092942Z
URL:https://sac-saas.ch/events/mehrseillaengenklettern-gelmerfluh-grimselp
 ass-anmeldung-ab-23-07-2025/
SUMMARY:Änderung Mehrseillängenklettern max. 5b Nachstieg / Anmeldung ab 
 23.07.2025
DESCRIPTION:Anpassung der Tour auf Wunsch von Teilnehmer!\n\nWir werden ein
 e MSL Tour in der Schwierigkeit 5b max im nachstieg angehen.\n\nGenaue Ang
 aben folgen....\n\nOrt: ....\n\n&nbsp\;\n\n&nbsp\;\n\n&nbsp\;\n\n\n\nAnmel
 dung ab:\n23.07.2025\n\n\nSchwierigkeit\n5b Obl.\n\n\nEckdaten\nKlettertou
 r zwischen 200-400 Klettermeter\, Zustieg &lt\;1h\,\n\n\nAusrüstung\nMSL 
 Ausrüstung\n\n\nTreffpunkt\nVisp\n\n\nTeilnehmerzahl\n1 TL und 2 TN\n\n\n
 \n&nbsp\;
CATEGORIES:Klettern,SAC Tour
END:VEVENT
BEGIN:VTIMEZONE
TZID:Europe/Zurich
X-LIC-LOCATION:Europe/Zurich
BEGIN:DAYLIGHT
DTSTART:20250330T030000
TZOFFSETFROM:+0100
TZOFFSETTO:+0200
TZNAME:CEST
END:DAYLIGHT
END:VTIMEZONE
END:VCALENDAR