BEGIN:VCALENDAR
VERSION:2.0
PRODID:-//wp-events-plugin.com//7.2.3.1//EN
TZID:Europe/Zurich
X-WR-TIMEZONE:Europe/Zurich
BEGIN:VEVENT
UID:387@sac-saas.ch
DTSTART;TZID=Europe/Zurich;VALUE=DATE:20250719
DTEND;TZID=Europe/Zurich;VALUE=DATE:20250720
DTSTAMP:20250625T204820Z
URL:https://sac-saas.ch/events/mehrseillaengenklettern-am-grimselpass-anme
 ldung-ab-26-06-2025/
SUMMARY:Mehrseillängenklettern am Grimselpass / Anmeldung ab 26.06.2025
DESCRIPTION:Wir werden am Grimselpass eine Mehrseillängentour angehen. Ger
 ne bringe ich euch mein wissen bei\, damit ihr anschliessend vielleicht au
 ch selbstständig Mehrseillängen Klettern könnt.\n\nIdeal für erste Sch
 ritte in einer Mehrseillängenklettern\n\nDer Grimselpass ist ein Paradies
  für Mehrseillängenklettern in tiefen Schwierigkeitsgraden.\n\nDie Schwi
 erigkeit der Tour wird anhand den Anmeldungen ausgesucht. Ab 5a bist du da
 bei. Falls ihr euch unsicher seit\, ob es das Passende für euch ist\, fra
 gt doch bei Pascal über die Voraussetzungen nach.\n\n&nbsp\;\n\n\n\nAnmel
 dung ab:\n19.06.2025\n\n\nSchwierigkeit\nAb 5a\n\n\nEckdaten\nZustieg max.
  30min. Klettermeter 200 - 400 Meter\n\n\nAusrüstung\nMSL Kletterausrüst
 ung\, gute Zustiegsschuhe\n\n\nTreffpunkt\nBrig\n\n\nTeilnehmerzahl\n3\, e
 vt. mehr! je nach können der Teilnehmer\n\n\n\n&nbsp\;
CATEGORIES:SAC Tour
END:VEVENT
BEGIN:VTIMEZONE
TZID:Europe/Zurich
X-LIC-LOCATION:Europe/Zurich
BEGIN:DAYLIGHT
DTSTART:20250330T030000
TZOFFSETFROM:+0100
TZOFFSETTO:+0200
TZNAME:CEST
END:DAYLIGHT
END:VTIMEZONE
END:VCALENDAR