BEGIN:VCALENDAR
VERSION:2.0
PRODID:-//wp-events-plugin.com//7.2.3.1//EN
TZID:Europe/Zurich
X-WR-TIMEZONE:Europe/Zurich
BEGIN:VEVENT
UID:530@sac-saas.ch
DTSTART;TZID=Europe/Zurich;VALUE=DATE:20260810
DTEND;TZID=Europe/Zurich;VALUE=DATE:20260811
DTSTAMP:20251123T190009Z
URL:https://sac-saas.ch/events/mehrseillaengenkletter-gaellihorn-kanderste
 g-anmeldung-ab-10-07-26/
SUMMARY:Mehrseillängenkletter Gällihorn Kandersteg / Anmeldung ab 10.07.2
 6
DESCRIPTION:&nbsp\;\n\n\n\nAnmeldung ab:\n10.08.26\n\n\nSchwierigkeit\nab 5
 a oder 6a\, je nach Bedarf\,\n\n\nEckdaten\n500 auf und ab\n\n\nAusrüstun
 g\n\n\n\nTreffpunkt\nWird später bekannt gegeben\n\n\nTeilnehmerzahl\n3 m
 it TL oder 6 mit SF und TL\n\n\n\n&nbsp\;
CATEGORIES:Klettern,SAC Tour
END:VEVENT
BEGIN:VTIMEZONE
TZID:Europe/Zurich
X-LIC-LOCATION:Europe/Zurich
BEGIN:DAYLIGHT
DTSTART:20260329T030000
TZOFFSETFROM:+0100
TZOFFSETTO:+0200
TZNAME:CEST
END:DAYLIGHT
END:VTIMEZONE
END:VCALENDAR