BEGIN:VCALENDAR
VERSION:2.0
PRODID:-//wp-events-plugin.com//7.2.3.1//EN
TZID:Europe/Zurich
X-WR-TIMEZONE:Europe/Zurich
BEGIN:VEVENT
UID:529@sac-saas.ch
DTSTART;TZID=Europe/Zurich;VALUE=DATE:20260613
DTEND;TZID=Europe/Zurich;VALUE=DATE:20260614
DTSTAMP:20260311T103203Z
URL:https://sac-saas.ch/events/mehrseillaengen-klettern-im-unterwallis-anm
 eldung-ab-13-05-26/
SUMMARY:Mehrseillängen klettern im Unterwallis / Anmeldung ab 13.05.26
DESCRIPTION:&nbsp\;\n\n\n\nAnmeldung ab:\n13.05.26\n\n\nSchwierigkeit\nab 5
 c\n\n\nEckdaten\n\n\n\nAusrüstung\n\n\n\nTreffpunkt\nWird später bekannt
  gegeben\n\n\nTeilnehmerzahl\n6 inkl. TL und SL\n\n\n\n&nbsp\;
CATEGORIES:Klettern,SAC Tour
END:VEVENT
BEGIN:VTIMEZONE
TZID:Europe/Zurich
X-LIC-LOCATION:Europe/Zurich
BEGIN:DAYLIGHT
DTSTART:20260329T030000
TZOFFSETFROM:+0100
TZOFFSETTO:+0200
TZNAME:CEST
END:DAYLIGHT
END:VTIMEZONE
END:VCALENDAR