BEGIN:VCALENDAR
VERSION:2.0
PRODID:-//wp-events-plugin.com//7.2.3.1//EN
TZID:Europe/Zurich
X-WR-TIMEZONE:Europe/Zurich
BEGIN:VEVENT
UID:125@sac-saas.ch
DTSTART;TZID=Europe/Zurich;VALUE=DATE:20230805
DTEND;TZID=Europe/Zurich;VALUE=DATE:20230806
DTSTAMP:20230719T103524Z
URL:https://sac-saas.ch/events/madonna-delle-neve/
SUMMARY:Madonna delle Neve / Anmeldung ab 05.07.2023
DESCRIPTION:Fest „Maria zum Schnee - Samstag\, 05. August auf dem Monte M
 oor-Pass\n\nAuch dieses Jahr ladet die Pfarrei Macugnaga und die Pfarreien
  des Saastales zum Fest „Maria zum Schnee“ ein.\n\nUm 11.00 Uhr findet
  auf dem Monte Mor0-Pass die heilige Messe in deutscher bzw italienischer 
 Sprache statt. Damit wird einer langen Tradition nachgelebt und der Freund
 schaft zwischen den beiden Tälern dies- und jenseits des Passes Ausdruck 
 verliehen.\n\nTreffpunkt ist um 07:oo auf der Staudammkrone Mattmark. Von 
 dort pilgern wir zusammen mit dem Pfarrer Udo Cael auf den Pass.\n\nFür d
 ie Anreise auf den Pass wird ein Extrabus organisiert:\nAbfahrt um 06:36 S
 aat-Balen\, 06:43 Saas-Grund und 06:51 Saas-Almagell\, Anschluss Saal-Fee 
 regulärer Bus\, Abfahrt Sasa-Fee um 06:30\n\nBei genügend Anmeldung wird
  zudem ein Extrabus direkt nach Macugnaga und wieder zurück organisiert. 
 Ab Macugnaga fährt eine Seilbahn auf den Pass (Auskunft und Anmeldung bei
  Myrta Burgener 077 419 10 17).\n\nWer im Restaurant auf dem Monte-Moro-Pa
 ss essen möchte\, meldet sich am besten ebenfalls bei Myrta Burgener an.\
 n\nAllora\, ci vediamo sul Passo del Monte Moro\, Tutti soni benvenuti.\n\
 n&nbsp\;
CATEGORIES:SAC Tour
END:VEVENT
BEGIN:VTIMEZONE
TZID:Europe/Zurich
X-LIC-LOCATION:Europe/Zurich
BEGIN:DAYLIGHT
DTSTART:20230326T030000
TZOFFSETFROM:+0100
TZOFFSETTO:+0200
TZNAME:CEST
END:DAYLIGHT
END:VTIMEZONE
END:VCALENDAR