BEGIN:VCALENDAR
VERSION:2.0
PRODID:-//wp-events-plugin.com//7.2.3.1//EN
TZID:Europe/Zurich
X-WR-TIMEZONE:Europe/Zurich
BEGIN:VEVENT
UID:470@sac-saas.ch
DTSTART;TZID=Europe/Zurich;VALUE=DATE:20250803
DTEND;TZID=Europe/Zurich;VALUE=DATE:20250804
DTSTAMP:20250503T142507Z
URL:https://sac-saas.ch/events/madonna-delle-neve-monte-moro-pass-anmeldun
 g-ab-05-05-2025/
SUMMARY:Madonna delle Neve – Monte Moro Pass / Anmeldung ab 05.05.2025
DESCRIPTION:Madonna delle Neve – Monte Moro Pass\n\n\n\nAnmeldung ab:\n\n
 \n\nSchwierigkeit\n\n\n\nEckdaten\n\n\n\nAusrüstung\n\n\n\nTreffpunkt\n\n
 \n\nTeilnehmerzahl\n30\n\n\n\n&nbsp\;
CATEGORIES:SAC Tour
END:VEVENT
BEGIN:VTIMEZONE
TZID:Europe/Zurich
X-LIC-LOCATION:Europe/Zurich
BEGIN:DAYLIGHT
DTSTART:20250330T030000
TZOFFSETFROM:+0100
TZOFFSETTO:+0200
TZNAME:CEST
END:DAYLIGHT
END:VTIMEZONE
END:VCALENDAR