BEGIN:VCALENDAR
VERSION:2.0
PRODID:-//wp-events-plugin.com//7.2.3.1//EN
TZID:Europe/Zurich
X-WR-TIMEZONE:Europe/Zurich
BEGIN:VEVENT
UID:95@sac-saas.ch
DTSTART;TZID=Europe/Zurich;VALUE=DATE:20221211
DTEND;TZID=Europe/Zurich;VALUE=DATE:20221212
DTSTAMP:20221202T214818Z
URL:https://sac-saas.ch/events/lawinenkurs-jo/
SUMMARY:JO Lawinenkurs Saas Fee
DESCRIPTION:Den Winter starten wir mit einem Lawinenkurs in Saas Fee. Wir w
 erden ein Tag im Schnee verbringen\, etwas über Lawinen und Rettungen ler
 nen und dazu viel Skifahren.\n\n\n\nSchwierigkeit\nleicht\n\n\nAnmeldeschl
 uss\nMittwoch\, 8.12\n\n\nAusrüstung\nSki- oder Snowboardausrüstung\, LV
 S\, Schaufel\, Sonde\, Lunch\n\n\nTreffpunkt\nWird nach Anmeldeschluss bek
 anntgegeben\n\n\nKosten\n10.- plus Tageskarte Skigebiet\n\n\n\n&nbsp\;
CATEGORIES:SAC JO
END:VEVENT
BEGIN:VTIMEZONE
TZID:Europe/Zurich
X-LIC-LOCATION:Europe/Zurich
BEGIN:STANDARD
DTSTART:20221030T020000
TZOFFSETFROM:+0200
TZOFFSETTO:+0100
TZNAME:CET
END:STANDARD
END:VTIMEZONE
END:VCALENDAR