BEGIN:VCALENDAR
VERSION:2.0
PRODID:-//wp-events-plugin.com//7.2.3.1//EN
TZID:Europe/Zurich
X-WR-TIMEZONE:Europe/Zurich
BEGIN:VEVENT
UID:418@sac-saas.ch
DTSTART;TZID=Europe/Zurich;VALUE=DATE:20241208
DTEND;TZID=Europe/Zurich;VALUE=DATE:20241209
DTSTAMP:20241206T115604Z
URL:https://sac-saas.ch/events/lawinenkurs-anmeldung-ab-15-11-24/
SUMMARY:Lawinenkurs / Anmeldung ab 15.11.24
DESCRIPTION:Lawinenkurs SAC Saas 2024 \n\nTreffpunkt: 9:00 Berggasthaus Wa
 senalp auf dem Rothwald\, Simplon\n\nDer Aufstieg zur Wasenalp erfolgt ind
 ividuell. Rechnet ca. 30-45 min für diesen Morgenpaziergang ein.\n\nMan p
 arkt das Auto am Fuss des Skilifts und erreicht die Wasenalp über eine Fo
 rststrasse. Ein kleiner Blick auf die Landeskarte und man findet die Wasen
 alp ohne weiteres.\n\nUm 9:00 starten wir mit einer kleinen Theorie in die
  Lawinenthematik\, anschliessend werden wir das Gelernte im Gelände anwen
 den. Zu Mittag essen wir im Berggasthaus\, Chiara und Fredy werden uns bew
 irten.\n\nNachmittags sehen wir uns das Gelände um den Hohture an. Steilh
 eiten\, Expositionen\, Verhalten bei Lawinengefahr\, dies einige Themen we
 lche wir nachmittags gemeinsam anschauen werden.\n\nBei Fragen oder Unklar
 heiten könnt ihr mich ohne weiteres anrufen.\n\nGanz liebe Grüsse und bi
 s Sonntag\n\nVoide Gabriel\n\n079 698 60 65\n\nDie aktuellen Verhältnisse
  versprechen einen optimalen Start in die Tourensaison 2024-2025.\n\nMit d
 em Lawinenkurs werden wir uns ideal auf die kommenden Touren vorbereiten. 
 Ein kurzer Theorieteil wird uns in den Tag einstimmen. Wenn es die Verhäl
 tnisse erlauben werden wir gemeinsam eine kleine Ausbildungstour unternehm
 en und das gelernte in die Praxis umsetzen.\n\nUm die bestmöglichen Verh
 ältnisse für den Lawinenkurs zu erwischen\, werde ich den Austragungsort
 \, den Treffpunkt und die Zeit erst 1-2 Tage vorher auf dieser Seite kommu
 nizieren.\n\nIch freue mich auf einen lehrreichen Tag mit euch im Schnee.\
 n\nBis bald\n\nVoide Gabriel\n\n079 698 60 65\n\n\n\nAnmeldung ab:\n\n\n\n
 Schwierigkeit\nAusbildungstag\n\n\nEckdaten\nTheorie- und Praxisteil\n\n\n
 Ausrüstung\nKomplette Tourenausrüstung\n\n\nTreffpunkt\nsiehe oben\n\n\n
 Teilnehmerzahl\n20\n\n\n\n&nbsp\;
CATEGORIES:SAC Tour
END:VEVENT
BEGIN:VTIMEZONE
TZID:Europe/Zurich
X-LIC-LOCATION:Europe/Zurich
BEGIN:STANDARD
DTSTART:20241027T020000
TZOFFSETFROM:+0200
TZOFFSETTO:+0100
TZNAME:CET
END:STANDARD
END:VTIMEZONE
END:VCALENDAR