BEGIN:VCALENDAR
VERSION:2.0
PRODID:-//wp-events-plugin.com//7.2.3.1//EN
TZID:Europe/Zurich
X-WR-TIMEZONE:Europe/Zurich
BEGIN:VEVENT
UID:262@sac-saas.ch
DTSTART;TZID=Europe/Zurich;VALUE=DATE:20231210
DTEND;TZID=Europe/Zurich;VALUE=DATE:20231211
DTSTAMP:20231209T203847Z
URL:https://sac-saas.ch/events/lawinenkurs-2024-anmeldung-ab-10-11-2023-3/
SUMMARY:Lawinenkurs 2024 / Anmeldung ab 10.11.2023
DESCRIPTION:Lawinenkurs 10.12.2023\n\nWenn die Schneesituation sich weiterh
 in so positiv entwickelt\, werden wir den Lawinenkurs im Rahmen einer klei
 nen Skitour durchführen. Trotzdem werden wir im Laufe des Tages alle wich
 tigen Themen\, wie Tourenplanung\, Verhalten bei Lawinengefahr\, Kameraden
 rettung usw. anschauen und miteinander diskutieren.\n\nEs wird sich um ein
 e technisch einfache und gemütliche Tour mit dem Augenmerk auf die Ausbil
 dungsthemen handeln.\n\nUm die bestmöglichen Verhältnisse zu erwischen\,
  werde ich den Standort des Kurses erst drei Tage vor dem Kurs auf dieser 
 Seite kommunizieren.\n\nIch freue mich auf einen interessanten Start in di
 e neue Wintersaison\n\nVoide Gabriel\n\n079 698 60 65\n\n\n\nAnmeldung mö
 glich ab:\n10.11.2023\n\n\nSchwierigkeit\nAusbildungskurs\n\n\nEckdaten\n\
 n\n\nAusrüstung\nkomplette Skitourenausrüstung inkl. LVS\, Schaufel\, So
 nde\, Felle\, Harscheisen\n\n\nTreffpunkt\n8:20  Restaurant Waldhaus\, Le
 ukerbad \,8 Minuten zu Fuss vom Busterminal oder 4 Minuten von den Torrent
 bahnen\n\nAnkunft Bus 8:09 oder Parkhaus Torrentbahnen\n\n&nbsp\;\n\nIn Sk
 iausrüstung\, eventuell leichte Turnschuhe für die Theorie\n\nEs gibt ei
 ne kurze Theorie über die Basics\, damit alle Teilnehmer über dieselben 
 Grundkenntnisse verfügen.\n\n&nbsp\;\n\n\nTeilnehmerzahl\n20\n\n\n\n&nbsp
 \;
CATEGORIES:SAC Tour
END:VEVENT
BEGIN:VTIMEZONE
TZID:Europe/Zurich
X-LIC-LOCATION:Europe/Zurich
BEGIN:STANDARD
DTSTART:20231029T020000
TZOFFSETFROM:+0200
TZOFFSETTO:+0100
TZNAME:CET
END:STANDARD
END:VTIMEZONE
END:VCALENDAR