BEGIN:VCALENDAR
VERSION:2.0
PRODID:-//wp-events-plugin.com//7.2.3.1//EN
TZID:Europe/Zurich
X-WR-TIMEZONE:Europe/Zurich
BEGIN:VEVENT
UID:13@sac-saas.ch
DTSTART;TZID=Europe/Zurich;VALUE=DATE:20221218
DTEND;TZID=Europe/Zurich;VALUE=DATE:20221219
DTSTAMP:20221216T071854Z
URL:https://sac-saas.ch/events/lawinenkurs-2/
SUMMARY:findet statt-Lawinenkurs / Anmeldung ab 06.11.2022
DESCRIPTION:Lawinenkurs \n\nTourenvorbereitung\, Verhalten bei Lawinengefa
 hr\, Kameradenrettung hier nur einige Themen welche wir während dem Lawin
 enkurs besprechen werden.\n\nEs ist von grosser Wichtigkeit\, dass alle Te
 ilnehmer auf Skitouren des SAC Saas Bescheid wissen über diese unter Umst
 änden lebenswichtigen Themen.\n\nWir freuen uns während eines interessan
 ten Tages euch in die Lawinenkunde einzuführen oder aufzufrischen.\n\nGab
 riel und Mario\n\n\n\nAnmeldung möglich ab:\n06.11.2022\, 07:00\n\n\n\n\n
 \n\nSchwierigkeit\nAusbildungstag\n\n\nEckdaten\n\n\n\nAusrüstung\nnormal
 e Skitourenausrüstung\, LVS\, Schaufel\, Sonde\n\n\nTreffpunkt\n9:00 Tals
 tation Alpin-Express Saas-Fee\n\n\nTeilnehmerzahl\n20 Pers.\n\n\n\n&nbsp\;
CATEGORIES:Ausbildungskurs,SAC Tour
END:VEVENT
BEGIN:VTIMEZONE
TZID:Europe/Zurich
X-LIC-LOCATION:Europe/Zurich
BEGIN:STANDARD
DTSTART:20221030T020000
TZOFFSETFROM:+0200
TZOFFSETTO:+0100
TZNAME:CET
END:STANDARD
END:VTIMEZONE
END:VCALENDAR